BEGIN:VCALENDAR
VERSION:2.0
PRODID:-//IPMS Queensland - ECPv6.15.20//NONSGML v1.0//EN
CALSCALE:GREGORIAN
METHOD:PUBLISH
X-WR-CALNAME:IPMS Queensland
X-ORIGINAL-URL:https://ipmsqld.org.au
X-WR-CALDESC:Events for IPMS Queensland
REFRESH-INTERVAL;VALUE=DURATION:PT1H
X-Robots-Tag:noindex
X-PUBLISHED-TTL:PT1H
BEGIN:VTIMEZONE
TZID:Australia/Brisbane
BEGIN:STANDARD
TZOFFSETFROM:+1000
TZOFFSETTO:+1000
TZNAME:AEST
DTSTART:19701231T140000
END:STANDARD
BEGIN:DAYLIGHT
TZOFFSETFROM:+1000
TZOFFSETTO:+1100
TZNAME:AEDT
DTSTART:19711030T160000
END:DAYLIGHT
BEGIN:STANDARD
TZOFFSETFROM:+1100
TZOFFSETTO:+1000
TZNAME:AEST
DTSTART:19720226T160000
END:STANDARD
BEGIN:DAYLIGHT
TZOFFSETFROM:+1000
TZOFFSETTO:+1100
TZNAME:AEDT
DTSTART:19891028T160000
END:DAYLIGHT
BEGIN:STANDARD
TZOFFSETFROM:+1100
TZOFFSETTO:+1000
TZNAME:AEST
DTSTART:19900303T160000
END:STANDARD
BEGIN:DAYLIGHT
TZOFFSETFROM:+1000
TZOFFSETTO:+1100
TZNAME:AEDT
DTSTART:19901027T160000
END:DAYLIGHT
BEGIN:STANDARD
TZOFFSETFROM:+1100
TZOFFSETTO:+1000
TZNAME:AEST
DTSTART:19910302T160000
END:STANDARD
BEGIN:DAYLIGHT
TZOFFSETFROM:+1000
TZOFFSETTO:+1100
TZNAME:AEDT
DTSTART:19911026T160000
END:DAYLIGHT
BEGIN:STANDARD
TZOFFSETFROM:+1100
TZOFFSETTO:+1000
TZNAME:AEST
DTSTART:19920229T160000
END:STANDARD
END:VTIMEZONE
BEGIN:VEVENT
DTSTART;VALUE=DATE:20250607
DTEND;VALUE=DATE:20250610
DTSTAMP:20260425T002519
CREATED:20250219T060019Z
LAST-MODIFIED:20250317T071334Z
UID:16650-1749254400-1749513599@ipmsqld.org.au
SUMMARY:Australian Model Expo 2025
DESCRIPTION:
URL:https://ipmsqld.org.au/event/australian-model-expo-2025/
LOCATION:Sandown Entertainment Centre\, Sandown Racecourse\, Princes Highway\, Springvale\, Victoria\, 3171\, Australia
CATEGORIES:Exhibition
END:VEVENT
BEGIN:VEVENT
DTSTART;TZID=Australia/Brisbane:20250601T090000
DTEND;TZID=Australia/Brisbane:20250601T120000
DTSTAMP:20260425T002519
CREATED:20250218T104905Z
LAST-MODIFIED:20250218T104905Z
UID:16612-1748768400-1748779200@ipmsqld.org.au
SUMMARY:IPMS Qld workshop
DESCRIPTION:
URL:https://ipmsqld.org.au/event/ipms-qld-workshop-4/
LOCATION:Albany Creek State School\, 696 Albany Creek Rd\, Albany Creek\, Queensland\, Australia
CATEGORIES:IPMS Qld workshop
END:VEVENT
BEGIN:VEVENT
DTSTART;TZID=Australia/Brisbane:20250521T193000
DTEND;TZID=Australia/Brisbane:20250521T210000
DTSTAMP:20260425T002519
CREATED:20250218T104024Z
LAST-MODIFIED:20250218T104024Z
UID:16603-1747855800-1747861200@ipmsqld.org.au
SUMMARY:IPMS Qld May meeting
DESCRIPTION:
URL:https://ipmsqld.org.au/event/ipms-qld-may-meeting/
LOCATION:Albany Creek State School\, 696 Albany Creek Rd\, Albany Creek\, Queensland\, Australia
CATEGORIES:IPMS Qld club meeting
END:VEVENT
BEGIN:VEVENT
DTSTART;TZID=Australia/Brisbane:20250518T080000
DTEND;TZID=Australia/Brisbane:20250518T170000
DTSTAMP:20260425T002519
CREATED:20250219T054810Z
LAST-MODIFIED:20250405T003045Z
UID:16647-1747555200-1747587600@ipmsqld.org.au
SUMMARY:PX2025
DESCRIPTION:PX2025 will be held between 9am – 1pm on May 18th\, at Albany Creek State School Hall\, 696 Albany Creek Road\, Albany Creek (see right for map). \nPX\, or Plastic Exchange\, is a great opportunity to come and stock up on kits\, or alternatively book a table and sell a few kits from your stash. \nMore details are available here. \nYou can download a flyer at this link.
URL:https://ipmsqld.org.au/event/px2025/
LOCATION:Albany Creek State School\, 696 Albany Creek Rd\, Albany Creek\, Queensland\, Australia
CATEGORIES:Special event or activity
END:VEVENT
BEGIN:VEVENT
DTSTART;VALUE=DATE:20250517
DTEND;VALUE=DATE:20250519
DTSTAMP:20260425T002519
CREATED:20250219T053701Z
LAST-MODIFIED:20250219T053701Z
UID:16640-1747440000-1747612799@ipmsqld.org.au
SUMMARY:NSW Scale Model Show 2025
DESCRIPTION:
URL:https://ipmsqld.org.au/event/nsw-scale-model-show-2025/
LOCATION:Illawarra Sports Stadium Fred Finch Park Hooka Creek Rd Berkeley NSW 2506\, Fred Finch Park Hooka Creek Rd\, Berkeley\, New South Wales\, 2506\, Australia
CATEGORIES:Exhibition
END:VEVENT
BEGIN:VEVENT
DTSTART;TZID=Australia/Brisbane:20250504T090000
DTEND;TZID=Australia/Brisbane:20250504T120000
DTSTAMP:20260425T002519
CREATED:20250218T104103Z
LAST-MODIFIED:20250218T104337Z
UID:16605-1746349200-1746360000@ipmsqld.org.au
SUMMARY:IPMS Qld workshop
DESCRIPTION:
URL:https://ipmsqld.org.au/event/ipms-qld-workshop-3/
LOCATION:Albany Creek State School\, 696 Albany Creek Rd\, Albany Creek\, Queensland\, Australia
CATEGORIES:IPMS Qld workshop
END:VEVENT
BEGIN:VEVENT
DTSTART;VALUE=DATE:20250425
DTEND;VALUE=DATE:20250428
DTSTAMP:20260425T002519
CREATED:20250219T054711Z
LAST-MODIFIED:20250219T055442Z
UID:16645-1745539200-1745798399@ipmsqld.org.au
SUMMARY:ACTSMS Anzac Blitz Build
DESCRIPTION:For more information check out the ACTSMS website here: \nhttps://www.actsms.asn.au/calendar/anzac-blitz-build-2025
URL:https://ipmsqld.org.au/event/actsms-anzac-blitz-build/
LOCATION:Victoria
CATEGORIES:Special event or activity
END:VEVENT
BEGIN:VEVENT
DTSTART;TZID=Australia/Brisbane:20250416T193000
DTEND;TZID=Australia/Brisbane:20250416T210000
DTSTAMP:20260425T002519
CREATED:20250218T100858Z
LAST-MODIFIED:20250614T235156Z
UID:16601-1744831800-1744837200@ipmsqld.org.au
SUMMARY:IPMS Qld April meeting including judging
DESCRIPTION:
URL:https://ipmsqld.org.au/event/ipms-qld-april-meeting/
LOCATION:Albany Creek State School\, 696 Albany Creek Rd\, Albany Creek\, Queensland\, Australia
CATEGORIES:IPMS Qld club meeting
END:VEVENT
BEGIN:VEVENT
DTSTART;TZID=Australia/Brisbane:20250406T090000
DTEND;TZID=Australia/Brisbane:20250406T120000
DTSTAMP:20260425T002519
CREATED:20250218T100810Z
LAST-MODIFIED:20250218T100810Z
UID:16599-1743930000-1743940800@ipmsqld.org.au
SUMMARY:IPMS Qld workshop
DESCRIPTION:
URL:https://ipmsqld.org.au/event/ipms-qld-workshop-2/
LOCATION:Albany Creek State School\, 696 Albany Creek Rd\, Albany Creek\, Queensland\, Australia
CATEGORIES:IPMS Qld workshop
END:VEVENT
BEGIN:VEVENT
DTSTART;TZID=Australia/Brisbane:20250319T193000
DTEND;TZID=Australia/Brisbane:20250319T210000
DTSTAMP:20260425T002519
CREATED:20250218T095905Z
LAST-MODIFIED:20250218T095905Z
UID:16595-1742412600-1742418000@ipmsqld.org.au
SUMMARY:IPMS Qld March meeting
DESCRIPTION:
URL:https://ipmsqld.org.au/event/ipms-qld-march-meeting/
LOCATION:Albany Creek State School\, 696 Albany Creek Rd\, Albany Creek\, Queensland\, Australia
CATEGORIES:IPMS Qld club meeting
END:VEVENT
BEGIN:VEVENT
DTSTART;TZID=Australia/Brisbane:20250302T090000
DTEND;TZID=Australia/Brisbane:20250302T120000
DTSTAMP:20260425T002519
CREATED:20250218T100726Z
LAST-MODIFIED:20250218T100726Z
UID:16597-1740906000-1740916800@ipmsqld.org.au
SUMMARY:IPMS Qld workshop
DESCRIPTION:
URL:https://ipmsqld.org.au/event/ipms-qld-workshop/
LOCATION:Albany Creek State School\, 696 Albany Creek Rd\, Albany Creek\, Queensland\, Australia
CATEGORIES:IPMS Qld workshop
END:VEVENT
BEGIN:VEVENT
DTSTART;TZID=Australia/Brisbane:20250219T193000
DTEND;TZID=Australia/Brisbane:20250219T210000
DTSTAMP:20260425T002519
CREATED:20250218T095454Z
LAST-MODIFIED:20250614T235230Z
UID:16592-1739993400-1739998800@ipmsqld.org.au
SUMMARY:IPMS Qld February meeting including judging
DESCRIPTION:TEST
URL:https://ipmsqld.org.au/event/ipms-queensland-february-meeting/
LOCATION:Albany Creek State School\, 696 Albany Creek Rd\, Albany Creek\, Queensland\, Australia
CATEGORIES:IPMS Qld club meeting
END:VEVENT
BEGIN:VEVENT
DTSTART;TZID=Australia/Brisbane:20260425T002519
DTEND;TZID=Australia/Brisbane:20260425T002519
DTSTAMP:20260425T002519
CREATED:20260417T042434Z
LAST-MODIFIED:20260417T042434Z
UID:16805-0-0@ipmsqld.org.au
SUMMARY:IPMS Qld September Meeting
DESCRIPTION:Visitors\, friends\, family\, members from other clubs  are all welcome to attend  IPMS Queensland club meetings as  guests.\nAt every second monthly meeting the club runs a competition with formal judging.  This provides an opportunity to have your work critiqued and to receive pointers on how to improve your modelling skills.  The monthly competition results are collated and used to award the Modeller of the Year. \nMembers and guests are encouraged to bring along their completed models or works in progress.
URL:https://ipmsqld.org.au/event/ipms-qld-september-meeting/
LOCATION:Albany Creek State School\, 696 Albany Creek Rd\, Albany Creek\, Queensland\, Australia
CATEGORIES:IPMS Qld club meeting
END:VEVENT
BEGIN:VEVENT
DTSTART;TZID=Australia/Brisbane:20260425T002519
DTEND;TZID=Australia/Brisbane:20260425T002519
DTSTAMP:20260425T002519
CREATED:20260417T042418Z
LAST-MODIFIED:20260417T042421Z
UID:16795-0-0@ipmsqld.org.au
SUMMARY:IPMS Qld June Workshop (Judging)
DESCRIPTION:The club runs an informal workshop on the first Sunday of each month in the Albany Creek State School Library\, starting at 9:00 am.  Modellers are welcome to bring their latest project and tool kit and spend a few hours in the company of fellow club members building their latest creation.  Demonstration tutorials are frequently run at the workshops\, presenting specific skills and techniques.
URL:https://ipmsqld.org.au/event/ipms-qld-june-workshop-judging/
LOCATION:Albany Creek State School\, 696 Albany Creek Rd\, Albany Creek\, Queensland\, Australia
CATEGORIES:IPMS Qld workshop
END:VEVENT
END:VCALENDAR