BEGIN:VCALENDAR
VERSION:2.0
PRODID:-//IPMS Queensland - ECPv6.15.20//NONSGML v1.0//EN
CALSCALE:GREGORIAN
METHOD:PUBLISH
X-WR-CALNAME:IPMS Queensland
X-ORIGINAL-URL:https://ipmsqld.org.au
X-WR-CALDESC:Events for IPMS Queensland
REFRESH-INTERVAL;VALUE=DURATION:PT1H
X-Robots-Tag:noindex
X-PUBLISHED-TTL:PT1H
BEGIN:VTIMEZONE
TZID:Australia/Brisbane
BEGIN:STANDARD
TZOFFSETFROM:+1000
TZOFFSETTO:+1000
TZNAME:AEST
DTSTART:20240101T000000
END:STANDARD
END:VTIMEZONE
BEGIN:VEVENT
DTSTART;TZID=Australia/Brisbane:20250618T193000
DTEND;TZID=Australia/Brisbane:20250618T210000
DTSTAMP:20260425T224339
CREATED:20250218T104819Z
LAST-MODIFIED:20250614T235029Z
UID:16610-1750275000-1750280400@ipmsqld.org.au
SUMMARY:IPMS Qld June meeting including judging
DESCRIPTION:
URL:https://ipmsqld.org.au/event/ipms-qld-june-meeting/
LOCATION:Albany Creek State School\, 696 Albany Creek Rd\, Albany Creek\, Queensland\, Australia
CATEGORIES:IPMS Qld club meeting
END:VEVENT
BEGIN:VEVENT
DTSTART;TZID=Australia/Brisbane:20250706T090000
DTEND;TZID=Australia/Brisbane:20250706T120000
DTSTAMP:20260425T224339
CREATED:20250219T052852Z
LAST-MODIFIED:20250219T052852Z
UID:16628-1751792400-1751803200@ipmsqld.org.au
SUMMARY:IPMS Qld workshop
DESCRIPTION:
URL:https://ipmsqld.org.au/event/ipms-qld-workshop-5/
LOCATION:Albany Creek State School\, 696 Albany Creek Rd\, Albany Creek\, Queensland\, Australia
CATEGORIES:IPMS Qld workshop
END:VEVENT
BEGIN:VEVENT
DTSTART;TZID=Australia/Brisbane:20250716T193000
DTEND;TZID=Australia/Brisbane:20250716T210000
DTSTAMP:20260425T224339
CREATED:20250219T052213Z
LAST-MODIFIED:20250219T052213Z
UID:16618-1752694200-1752699600@ipmsqld.org.au
SUMMARY:IPMS Qld July club meeting
DESCRIPTION:
URL:https://ipmsqld.org.au/event/ipms-qld-july-club-meeting/
LOCATION:Albany Creek State School\, 696 Albany Creek Rd\, Albany Creek\, Queensland\, Australia
CATEGORIES:IPMS Qld club meeting
END:VEVENT
BEGIN:VEVENT
DTSTART;TZID=Australia/Brisbane:20250803T090000
DTEND;TZID=Australia/Brisbane:20250803T120000
DTSTAMP:20260425T224339
CREATED:20250219T052942Z
LAST-MODIFIED:20250219T052942Z
UID:16630-1754211600-1754222400@ipmsqld.org.au
SUMMARY:IPMS Qld workshop
DESCRIPTION:
URL:https://ipmsqld.org.au/event/ipms-qld-workshop-6/
LOCATION:Albany Creek State School\, 696 Albany Creek Rd\, Albany Creek\, Queensland\, Australia
CATEGORIES:IPMS Qld workshop
END:VEVENT
BEGIN:VEVENT
DTSTART;VALUE=DATE:20250816
DTEND;VALUE=DATE:20250818
DTSTAMP:20260425T224339
CREATED:20250219T060434Z
LAST-MODIFIED:20250319T093623Z
UID:16653-1755302400-1755475199@ipmsqld.org.au
SUMMARY:QMHE 2025 - Queensland Model Hobbies Expo
DESCRIPTION:
URL:https://ipmsqld.org.au/event/qmhe-2025-queensland-model-hobbies-expo/
LOCATION:Ipswich Events Centre\, 81 Warwick Road\, Ipswich\, Queensland\, 4305\, Australia
CATEGORIES:Exhibition
END:VEVENT
BEGIN:VEVENT
DTSTART;TZID=Australia/Brisbane:20250820T193000
DTEND;TZID=Australia/Brisbane:20250820T210000
DTSTAMP:20260425T224339
CREATED:20250219T052134Z
LAST-MODIFIED:20250614T235117Z
UID:16616-1755718200-1755723600@ipmsqld.org.au
SUMMARY:IPMS Qld August club meeting including judging
DESCRIPTION:
URL:https://ipmsqld.org.au/event/ipms-qld-august-club-meeting/
LOCATION:Albany Creek State School\, 696 Albany Creek Rd\, Albany Creek\, Queensland\, Australia
CATEGORIES:IPMS Qld club meeting
END:VEVENT
BEGIN:VEVENT
DTSTART;TZID=Australia/Brisbane:20250907T090000
DTEND;TZID=Australia/Brisbane:20250907T120000
DTSTAMP:20260425T224339
CREATED:20250219T053016Z
LAST-MODIFIED:20250219T053016Z
UID:16632-1757235600-1757246400@ipmsqld.org.au
SUMMARY:IPMS Qld workshop
DESCRIPTION:
URL:https://ipmsqld.org.au/event/ipms-qld-workshop-7/
LOCATION:Albany Creek State School\, 696 Albany Creek Rd\, Albany Creek\, Queensland\, Australia
CATEGORIES:IPMS Qld workshop
END:VEVENT
BEGIN:VEVENT
DTSTART;TZID=Australia/Brisbane:20250917T193000
DTEND;TZID=Australia/Brisbane:20250917T210000
DTSTAMP:20260425T224339
CREATED:20250219T052349Z
LAST-MODIFIED:20250219T052457Z
UID:16620-1758137400-1758142800@ipmsqld.org.au
SUMMARY:IPMS Qld September club meeting
DESCRIPTION:
URL:https://ipmsqld.org.au/event/ipms-qld-september-club-meeting/
LOCATION:Albany Creek State School\, 696 Albany Creek Rd\, Albany Creek\, Queensland\, Australia
CATEGORIES:IPMS Qld club meeting
END:VEVENT
BEGIN:VEVENT
DTSTART;TZID=Australia/Brisbane:20251005T090000
DTEND;TZID=Australia/Brisbane:20251005T120000
DTSTAMP:20260425T224339
CREATED:20250219T053212Z
LAST-MODIFIED:20250219T053212Z
UID:16634-1759654800-1759665600@ipmsqld.org.au
SUMMARY:IPMS Qld workshop
DESCRIPTION:
URL:https://ipmsqld.org.au/event/ipms-qld-workshop-8/
LOCATION:Albany Creek State School\, 696 Albany Creek Rd\, Albany Creek\, Queensland\, Australia
CATEGORIES:IPMS Qld workshop
END:VEVENT
BEGIN:VEVENT
DTSTART;TZID=Australia/Brisbane:20251015T193000
DTEND;TZID=Australia/Brisbane:20251015T210000
DTSTAMP:20260425T224339
CREATED:20250219T052427Z
LAST-MODIFIED:20251014T064158Z
UID:16622-1760556600-1760562000@ipmsqld.org.au
SUMMARY:IPMS Qld October club meeting including judging
DESCRIPTION:
URL:https://ipmsqld.org.au/event/ipms-qld-october-club-meeting/
LOCATION:Albany Creek State School\, 696 Albany Creek Rd\, Albany Creek\, Queensland\, Australia
CATEGORIES:IPMS Qld club meeting
END:VEVENT
BEGIN:VEVENT
DTSTART;TZID=Australia/Brisbane:20251102T090000
DTEND;TZID=Australia/Brisbane:20251102T120000
DTSTAMP:20260425T224339
CREATED:20250219T053247Z
LAST-MODIFIED:20250219T053247Z
UID:16636-1762074000-1762084800@ipmsqld.org.au
SUMMARY:IPMS Qld workshop
DESCRIPTION:
URL:https://ipmsqld.org.au/event/ipms-qld-workshop-9/
LOCATION:Albany Creek State School\, 696 Albany Creek Rd\, Albany Creek\, Queensland\, Australia
CATEGORIES:IPMS Qld workshop
END:VEVENT
BEGIN:VEVENT
DTSTART;VALUE=DATE:20251108
DTEND;VALUE=DATE:20251110
DTSTAMP:20260425T224339
CREATED:20250219T054228Z
LAST-MODIFIED:20250219T054228Z
UID:16643-1762560000-1762732799@ipmsqld.org.au
SUMMARY:Scale ACT
DESCRIPTION:
URL:https://ipmsqld.org.au/event/scale-act/
LOCATION:Queensland
CATEGORIES:Exhibition
END:VEVENT
BEGIN:VEVENT
DTSTART;TZID=Australia/Brisbane:20251119T193000
DTEND;TZID=Australia/Brisbane:20251119T210000
DTSTAMP:20260425T224339
CREATED:20250219T052629Z
LAST-MODIFIED:20250219T052629Z
UID:16624-1763580600-1763586000@ipmsqld.org.au
SUMMARY:IPMS Qld November meeting
DESCRIPTION:
URL:https://ipmsqld.org.au/event/ipms-qld-november-meeting/
LOCATION:Albany Creek State School\, 696 Albany Creek Rd\, Albany Creek\, Queensland\, Australia
CATEGORIES:IPMS Qld club meeting
END:VEVENT
BEGIN:VEVENT
DTSTART;TZID=Australia/Brisbane:20251207T090000
DTEND;TZID=Australia/Brisbane:20251207T120000
DTSTAMP:20260425T224339
CREATED:20250219T053319Z
LAST-MODIFIED:20250615T044426Z
UID:16638-1765098000-1765108800@ipmsqld.org.au
SUMMARY:IPMS Qld workshop
DESCRIPTION:
URL:https://ipmsqld.org.au/event/ipms-qld-workshop-10/
LOCATION:Albany Creek State School\, 696 Albany Creek Rd\, Albany Creek\, Queensland\, Australia
CATEGORIES:IPMS Qld workshop
END:VEVENT
BEGIN:VEVENT
DTSTART;TZID=Australia/Brisbane:20251217T193000
DTEND;TZID=Australia/Brisbane:20251217T210000
DTSTAMP:20260425T224339
CREATED:20250219T052749Z
LAST-MODIFIED:20250219T052749Z
UID:16626-1765999800-1766005200@ipmsqld.org.au
SUMMARY:IPMS Qld December meeting
DESCRIPTION:
URL:https://ipmsqld.org.au/event/ipms-qld-december-meeting/
LOCATION:Albany Creek State School\, 696 Albany Creek Rd\, Albany Creek\, Queensland\, Australia
CATEGORIES:IPMS Qld club meeting
END:VEVENT
BEGIN:VEVENT
DTSTART;TZID=Australia/Brisbane:20260104T090000
DTEND;TZID=Australia/Brisbane:20260104T120000
DTSTAMP:20260425T224339
CREATED:20250615T044521Z
LAST-MODIFIED:20250615T044521Z
UID:16755-1767517200-1767528000@ipmsqld.org.au
SUMMARY:IPMS Qld workshop
DESCRIPTION:
URL:https://ipmsqld.org.au/event/ipms-qld-workshop-11/
LOCATION:Albany Creek State School\, 696 Albany Creek Rd\, Albany Creek\, Queensland\, Australia
CATEGORIES:IPMS Qld workshop
END:VEVENT
BEGIN:VEVENT
DTSTART;TZID=Australia/Brisbane:20260121T193000
DTEND;TZID=Australia/Brisbane:20260121T210000
DTSTAMP:20260425T224339
CREATED:20250615T000051Z
LAST-MODIFIED:20250615T044556Z
UID:16753-1769023800-1769029200@ipmsqld.org.au
SUMMARY:IPMS Qld January meeting
DESCRIPTION:Happy New Year!
URL:https://ipmsqld.org.au/event/ipms-qld-january-meeting/
LOCATION:Albany Creek State School\, 696 Albany Creek Rd\, Albany Creek\, Queensland\, Australia
CATEGORIES:IPMS Qld club meeting
END:VEVENT
BEGIN:VEVENT
DTSTART;TZID=Australia/Brisbane:20260218T193000
DTEND;TZID=Australia/Brisbane:20260218T210000
DTSTAMP:20260425T224339
CREATED:20250615T044739Z
LAST-MODIFIED:20250615T044739Z
UID:16757-1771443000-1771448400@ipmsqld.org.au
SUMMARY:IPMS Qld February Meeting including judging
DESCRIPTION:
URL:https://ipmsqld.org.au/event/ipms-qld-february-meeting-including-judging/
LOCATION:Albany Creek State School\, 696 Albany Creek Rd\, Albany Creek\, Queensland\, Australia
CATEGORIES:IPMS Qld club meeting
END:VEVENT
BEGIN:VEVENT
DTSTART;TZID=Australia/Brisbane:20260301T090000
DTEND;TZID=Australia/Brisbane:20260301T090000
DTSTAMP:20260425T224339
CREATED:20260417T042415Z
LAST-MODIFIED:20260417T042415Z
UID:16789-1772355600-1772355600@ipmsqld.org.au
SUMMARY:IPMS Qld March Workshop
DESCRIPTION:The club runs an informal workshop on the first Sunday of each month in the Albany Creek State School Library\, starting at 9:00 am.  Modellers are welcome to bring their latest project and tool kit and spend a few hours in the company of fellow club members building their latest creation.  Demonstration tutorials are frequently run at the workshops\, presenting specific skills and techniques.
URL:https://ipmsqld.org.au/event/ipms-qld-march-workshop/
LOCATION:Albany Creek State School\, 696 Albany Creek Rd\, Albany Creek\, Queensland\, Australia
CATEGORIES:IPMS Qld workshop
END:VEVENT
BEGIN:VEVENT
DTSTART;TZID=Australia/Brisbane:20260318T190000
DTEND;TZID=Australia/Brisbane:20260318T190000
DTSTAMP:20260425T224339
CREATED:20260417T042415Z
LAST-MODIFIED:20260417T042415Z
UID:16788-1773860400-1773860400@ipmsqld.org.au
SUMMARY:IPMS Qld March Meeting
DESCRIPTION:Visitors\, friends\, family\, members from other clubs  are all welcome to attend  IPMS Queensland club meetings as  guests.\nAt every second monthly meeting the club runs a competition with formal judging.  This provides an opportunity to have your work critiqued and to receive pointers on how to improve your modelling skills.  The monthly competition results are collated and used to award the Modeller of the Year. \nMembers and guests are encouraged to bring along their completed models or works in progress.
URL:https://ipmsqld.org.au/event/ipms-qld-march-meeting-2/
LOCATION:Albany Creek State School\, 696 Albany Creek Rd\, Albany Creek\, Queensland\, Australia
CATEGORIES:IPMS Qld club meeting
END:VEVENT
BEGIN:VEVENT
DTSTART;TZID=Australia/Brisbane:20260405T090000
DTEND;TZID=Australia/Brisbane:20260405T090000
DTSTAMP:20260425T224339
CREATED:20260417T042416Z
LAST-MODIFIED:20260417T042416Z
UID:16791-1775379600-1775379600@ipmsqld.org.au
SUMMARY:IPMS Qld April Workshop (Judging)
DESCRIPTION:The club runs an informal workshop on the first Sunday of each month in the Albany Creek State School Library\, starting at 9:00 am.  Modellers are welcome to bring their latest project and tool kit and spend a few hours in the company of fellow club members building their latest creation.  Demonstration tutorials are frequently run at the workshops\, presenting specific skills and techniques.
URL:https://ipmsqld.org.au/event/ipms-qld-april-workshop-judging/
LOCATION:Albany Creek State School\, 696 Albany Creek Rd\, Albany Creek\, Queensland\, Australia
CATEGORIES:IPMS Qld workshop
END:VEVENT
BEGIN:VEVENT
DTSTART;TZID=Australia/Brisbane:20260415T190000
DTEND;TZID=Australia/Brisbane:20260415T190000
DTSTAMP:20260425T224339
CREATED:20260417T042416Z
LAST-MODIFIED:20260417T042416Z
UID:16790-1776279600-1776279600@ipmsqld.org.au
SUMMARY:IPMS Qld April Meeting
DESCRIPTION:Visitors\, friends\, family\, members from other clubs  are all welcome to attend  IPMS Queensland club meetings as  guests.\nAt every second monthly meeting the club runs a competition with formal judging.  This provides an opportunity to have your work critiqued and to receive pointers on how to improve your modelling skills.  The monthly competition results are collated and used to award the Modeller of the Year. \nMembers and guests are encouraged to bring along their completed models or works in progress.
URL:https://ipmsqld.org.au/event/ipms-qld-april-meeting-2/
LOCATION:Albany Creek State School\, 696 Albany Creek Rd\, Albany Creek\, Queensland\, Australia
CATEGORIES:IPMS Qld club meeting
END:VEVENT
BEGIN:VEVENT
DTSTART;TZID=Australia/Brisbane:20260503T090000
DTEND;TZID=Australia/Brisbane:20260503T090000
DTSTAMP:20260425T224339
CREATED:20260417T042418Z
LAST-MODIFIED:20260417T042420Z
UID:16793-1777798800-1777798800@ipmsqld.org.au
SUMMARY:IPMS Qld May Workshop
DESCRIPTION:The club runs an informal workshop on the first Sunday of each month in the Albany Creek State School Library\, starting at 9:00 am.  Modellers are welcome to bring their latest project and tool kit and spend a few hours in the company of fellow club members building their latest creation.  Demonstration tutorials are frequently run at the workshops\, presenting specific skills and techniques.
URL:https://ipmsqld.org.au/event/ipms-qld-may-workshop/
LOCATION:Albany Creek State School\, 696 Albany Creek Rd\, Albany Creek\, Queensland\, Australia
CATEGORIES:IPMS Qld workshop
END:VEVENT
BEGIN:VEVENT
DTSTART;TZID=Australia/Brisbane:20260520T190000
DTEND;TZID=Australia/Brisbane:20260520T190000
DTSTAMP:20260425T224339
CREATED:20260417T042417Z
LAST-MODIFIED:20260417T042417Z
UID:16792-1779303600-1779303600@ipmsqld.org.au
SUMMARY:IPMS Qld May Meeting
DESCRIPTION:Visitors\, friends\, family\, members from other clubs  are all welcome to attend  IPMS Queensland club meetings as  guests.\nAt every second monthly meeting the club runs a competition with formal judging.  This provides an opportunity to have your work critiqued and to receive pointers on how to improve your modelling skills.  The monthly competition results are collated and used to award the Modeller of the Year. \nMembers and guests are encouraged to bring along their completed models or works in progress.
URL:https://ipmsqld.org.au/event/ipms-qld-may-meeting-2/
LOCATION:Albany Creek State School\, 696 Albany Creek Rd\, Albany Creek\, Queensland\, Australia
CATEGORIES:IPMS Qld club meeting
END:VEVENT
BEGIN:VEVENT
DTSTART;TZID=Australia/Brisbane:20260617T190000
DTEND;TZID=Australia/Brisbane:20260617T190000
DTSTAMP:20260425T224339
CREATED:20260417T042418Z
LAST-MODIFIED:20260417T042420Z
UID:16794-1781722800-1781722800@ipmsqld.org.au
SUMMARY:IPMS Qld June Meeting
DESCRIPTION:Visitors\, friends\, family\, members from other clubs  are all welcome to attend  IPMS Queensland club meetings as  guests.\nAt every second monthly meeting the club runs a competition with formal judging.  This provides an opportunity to have your work critiqued and to receive pointers on how to improve your modelling skills.  The monthly competition results are collated and used to award the Modeller of the Year. \nMembers and guests are encouraged to bring along their completed models or works in progress.
URL:https://ipmsqld.org.au/event/ipms-qld-june-meeting-2/
LOCATION:Albany Creek State School\, 696 Albany Creek Rd\, Albany Creek\, Queensland\, Australia
CATEGORIES:IPMS Qld club meeting
END:VEVENT
BEGIN:VEVENT
DTSTART;TZID=Australia/Brisbane:20260705T090000
DTEND;TZID=Australia/Brisbane:20260705T090000
DTSTAMP:20260425T224339
CREATED:20260417T042419Z
LAST-MODIFIED:20260417T042421Z
UID:16797-1783242000-1783242000@ipmsqld.org.au
SUMMARY:IPMS Qld July Workshop
DESCRIPTION:The club runs an informal workshop on the first Sunday of each month in the Albany Creek State School Library\, starting at 9:00 am.  Modellers are welcome to bring their latest project and tool kit and spend a few hours in the company of fellow club members building their latest creation.  Demonstration tutorials are frequently run at the workshops\, presenting specific skills and techniques.
URL:https://ipmsqld.org.au/event/ipms-qld-july-workshop/
LOCATION:Albany Creek State School\, 696 Albany Creek Rd\, Albany Creek\, Queensland\, Australia
CATEGORIES:IPMS Qld workshop
END:VEVENT
BEGIN:VEVENT
DTSTART;TZID=Australia/Brisbane:20260715T190000
DTEND;TZID=Australia/Brisbane:20260715T190000
DTSTAMP:20260425T224339
CREATED:20260417T042419Z
LAST-MODIFIED:20260417T042421Z
UID:16796-1784142000-1784142000@ipmsqld.org.au
SUMMARY:IPMS Qld July Meeting
DESCRIPTION:Visitors\, friends\, family\, members from other clubs  are all welcome to attend  IPMS Queensland club meetings as  guests.\nAt every second monthly meeting the club runs a competition with formal judging.  This provides an opportunity to have your work critiqued and to receive pointers on how to improve your modelling skills.  The monthly competition results are collated and used to award the Modeller of the Year. \nMembers and guests are encouraged to bring along their completed models or works in progress.
URL:https://ipmsqld.org.au/event/ipms-qld-july-meeting/
LOCATION:Albany Creek State School\, 696 Albany Creek Rd\, Albany Creek\, Queensland\, Australia
CATEGORIES:IPMS Qld club meeting
END:VEVENT
BEGIN:VEVENT
DTSTART;TZID=Australia/Brisbane:20260802T090000
DTEND;TZID=Australia/Brisbane:20260802T090000
DTSTAMP:20260425T224339
CREATED:20260417T042433Z
LAST-MODIFIED:20260417T042433Z
UID:16804-1785661200-1785661200@ipmsqld.org.au
SUMMARY:IPMS Qld August Workshop
DESCRIPTION:The club runs an informal workshop on the first Sunday of each month in the Albany Creek State School Library\, starting at 9:00 am.  Modellers are welcome to bring their latest project and tool kit and spend a few hours in the company of fellow club members building their latest creation.  Demonstration tutorials are frequently run at the workshops\, presenting specific skills and techniques.
URL:https://ipmsqld.org.au/event/ipms-qld-august-workshop/
LOCATION:Albany Creek State School\, 696 Albany Creek Rd\, Albany Creek\, Queensland\, Australia
CATEGORIES:IPMS Qld workshop
END:VEVENT
BEGIN:VEVENT
DTSTART;TZID=Australia/Brisbane:20260819T190000
DTEND;TZID=Australia/Brisbane:20260819T190000
DTSTAMP:20260425T224339
CREATED:20260417T042433Z
LAST-MODIFIED:20260417T042433Z
UID:16803-1787166000-1787166000@ipmsqld.org.au
SUMMARY:IPMS Qld August Meeting (Judging)
DESCRIPTION:Visitors\, friends\, family\, members from other clubs  are all welcome to attend  IPMS Queensland club meetings as  guests.\nAt every second monthly meeting the club runs a competition with formal judging.  This provides an opportunity to have your work critiqued and to receive pointers on how to improve your modelling skills.  The monthly competition results are collated and used to award the Modeller of the Year. \nMembers and guests are encouraged to bring along their completed models or works in progress.
URL:https://ipmsqld.org.au/event/ipms-qld-august-meeting-judging/
LOCATION:Albany Creek State School\, 696 Albany Creek Rd\, Albany Creek\, Queensland\, Australia
CATEGORIES:IPMS Qld club meeting
END:VEVENT
BEGIN:VEVENT
DTSTART;TZID=Australia/Brisbane:20260906T090000
DTEND;TZID=Australia/Brisbane:20260906T090000
DTSTAMP:20260425T224339
CREATED:20260417T042434Z
LAST-MODIFIED:20260417T042434Z
UID:16806-1788685200-1788685200@ipmsqld.org.au
SUMMARY:IPMS Qld September Workshop
DESCRIPTION:The club runs an informal workshop on the first Sunday of each month in the Albany Creek State School Library\, starting at 9:00 am.  Modellers are welcome to bring their latest project and tool kit and spend a few hours in the company of fellow club members building their latest creation.  Demonstration tutorials are frequently run at the workshops\, presenting specific skills and techniques.
URL:https://ipmsqld.org.au/event/ipms-qld-september-workshop/
LOCATION:Albany Creek State School\, 696 Albany Creek Rd\, Albany Creek\, Queensland\, Australia
CATEGORIES:IPMS Qld workshop
END:VEVENT
END:VCALENDAR