BEGIN:VCALENDAR
VERSION:2.0
PRODID:-//IPMS Queensland - ECPv6.15.20//NONSGML v1.0//EN
CALSCALE:GREGORIAN
METHOD:PUBLISH
X-ORIGINAL-URL:https://ipmsqld.org.au
X-WR-CALDESC:Events for IPMS Queensland
REFRESH-INTERVAL;VALUE=DURATION:PT1H
X-Robots-Tag:noindex
X-PUBLISHED-TTL:PT1H
BEGIN:VTIMEZONE
TZID:Australia/Brisbane
BEGIN:STANDARD
TZOFFSETFROM:+1000
TZOFFSETTO:+1000
TZNAME:AEST
DTSTART:20250101T000000
END:STANDARD
END:VTIMEZONE
BEGIN:VEVENT
DTSTART;TZID=Australia/Brisbane:20260617T190000
DTEND;TZID=Australia/Brisbane:20260617T190000
DTSTAMP:20260424T191643
CREATED:20260417T042418Z
LAST-MODIFIED:20260417T042420Z
UID:16794-1781722800-1781722800@ipmsqld.org.au
SUMMARY:IPMS Qld June Meeting
DESCRIPTION:Visitors\, friends\, family\, members from other clubs  are all welcome to attend  IPMS Queensland club meetings as  guests.\nAt every second monthly meeting the club runs a competition with formal judging.  This provides an opportunity to have your work critiqued and to receive pointers on how to improve your modelling skills.  The monthly competition results are collated and used to award the Modeller of the Year. \nMembers and guests are encouraged to bring along their completed models or works in progress.
URL:https://ipmsqld.org.au/event/ipms-qld-june-meeting-2/
LOCATION:Albany Creek State School\, 696 Albany Creek Rd\, Albany Creek\, Queensland\, Australia
CATEGORIES:IPMS Qld club meeting
END:VEVENT
BEGIN:VEVENT
DTSTART;TZID=Australia/Brisbane:20260705T090000
DTEND;TZID=Australia/Brisbane:20260705T090000
DTSTAMP:20260424T191643
CREATED:20260417T042419Z
LAST-MODIFIED:20260417T042421Z
UID:16797-1783242000-1783242000@ipmsqld.org.au
SUMMARY:IPMS Qld July Workshop
DESCRIPTION:The club runs an informal workshop on the first Sunday of each month in the Albany Creek State School Library\, starting at 9:00 am.  Modellers are welcome to bring their latest project and tool kit and spend a few hours in the company of fellow club members building their latest creation.  Demonstration tutorials are frequently run at the workshops\, presenting specific skills and techniques.
URL:https://ipmsqld.org.au/event/ipms-qld-july-workshop/
LOCATION:Albany Creek State School\, 696 Albany Creek Rd\, Albany Creek\, Queensland\, Australia
CATEGORIES:IPMS Qld workshop
END:VEVENT
BEGIN:VEVENT
DTSTART;TZID=Australia/Brisbane:20260715T190000
DTEND;TZID=Australia/Brisbane:20260715T190000
DTSTAMP:20260424T191643
CREATED:20260417T042419Z
LAST-MODIFIED:20260417T042421Z
UID:16796-1784142000-1784142000@ipmsqld.org.au
SUMMARY:IPMS Qld July Meeting
DESCRIPTION:Visitors\, friends\, family\, members from other clubs  are all welcome to attend  IPMS Queensland club meetings as  guests.\nAt every second monthly meeting the club runs a competition with formal judging.  This provides an opportunity to have your work critiqued and to receive pointers on how to improve your modelling skills.  The monthly competition results are collated and used to award the Modeller of the Year. \nMembers and guests are encouraged to bring along their completed models or works in progress.
URL:https://ipmsqld.org.au/event/ipms-qld-july-meeting/
LOCATION:Albany Creek State School\, 696 Albany Creek Rd\, Albany Creek\, Queensland\, Australia
CATEGORIES:IPMS Qld club meeting
END:VEVENT
BEGIN:VEVENT
DTSTART;TZID=Australia/Brisbane:20260802T090000
DTEND;TZID=Australia/Brisbane:20260802T090000
DTSTAMP:20260424T191643
CREATED:20260417T042433Z
LAST-MODIFIED:20260417T042433Z
UID:16804-1785661200-1785661200@ipmsqld.org.au
SUMMARY:IPMS Qld August Workshop
DESCRIPTION:The club runs an informal workshop on the first Sunday of each month in the Albany Creek State School Library\, starting at 9:00 am.  Modellers are welcome to bring their latest project and tool kit and spend a few hours in the company of fellow club members building their latest creation.  Demonstration tutorials are frequently run at the workshops\, presenting specific skills and techniques.
URL:https://ipmsqld.org.au/event/ipms-qld-august-workshop/
LOCATION:Albany Creek State School\, 696 Albany Creek Rd\, Albany Creek\, Queensland\, Australia
CATEGORIES:IPMS Qld workshop
END:VEVENT
BEGIN:VEVENT
DTSTART;TZID=Australia/Brisbane:20260819T190000
DTEND;TZID=Australia/Brisbane:20260819T190000
DTSTAMP:20260424T191643
CREATED:20260417T042433Z
LAST-MODIFIED:20260417T042433Z
UID:16803-1787166000-1787166000@ipmsqld.org.au
SUMMARY:IPMS Qld August Meeting (Judging)
DESCRIPTION:Visitors\, friends\, family\, members from other clubs  are all welcome to attend  IPMS Queensland club meetings as  guests.\nAt every second monthly meeting the club runs a competition with formal judging.  This provides an opportunity to have your work critiqued and to receive pointers on how to improve your modelling skills.  The monthly competition results are collated and used to award the Modeller of the Year. \nMembers and guests are encouraged to bring along their completed models or works in progress.
URL:https://ipmsqld.org.au/event/ipms-qld-august-meeting-judging/
LOCATION:Albany Creek State School\, 696 Albany Creek Rd\, Albany Creek\, Queensland\, Australia
CATEGORIES:IPMS Qld club meeting
END:VEVENT
BEGIN:VEVENT
DTSTART;TZID=Australia/Brisbane:20260906T090000
DTEND;TZID=Australia/Brisbane:20260906T090000
DTSTAMP:20260424T191643
CREATED:20260417T042434Z
LAST-MODIFIED:20260417T042434Z
UID:16806-1788685200-1788685200@ipmsqld.org.au
SUMMARY:IPMS Qld September Workshop
DESCRIPTION:The club runs an informal workshop on the first Sunday of each month in the Albany Creek State School Library\, starting at 9:00 am.  Modellers are welcome to bring their latest project and tool kit and spend a few hours in the company of fellow club members building their latest creation.  Demonstration tutorials are frequently run at the workshops\, presenting specific skills and techniques.
URL:https://ipmsqld.org.au/event/ipms-qld-september-workshop/
LOCATION:Albany Creek State School\, 696 Albany Creek Rd\, Albany Creek\, Queensland\, Australia
CATEGORIES:IPMS Qld workshop
END:VEVENT
BEGIN:VEVENT
DTSTART;TZID=Australia/Brisbane:20261004T090000
DTEND;TZID=Australia/Brisbane:20261004T090000
DTSTAMP:20260424T191643
CREATED:20260417T042449Z
LAST-MODIFIED:20260417T042449Z
UID:16808-1791104400-1791104400@ipmsqld.org.au
SUMMARY:IPMS Qld October Workshop
DESCRIPTION:The club runs an informal workshop on the first Sunday of each month in the Albany Creek State School Library\, starting at 9:00 am.  Modellers are welcome to bring their latest project and tool kit and spend a few hours in the company of fellow club members building their latest creation.  Demonstration tutorials are frequently run at the workshops\, presenting specific skills and techniques.
URL:https://ipmsqld.org.au/event/ipms-qld-october-workshop/
LOCATION:Albany Creek State School\, 696 Albany Creek Rd\, Albany Creek\, Queensland\, Australia
CATEGORIES:IPMS Qld workshop
END:VEVENT
BEGIN:VEVENT
DTSTART;TZID=Australia/Brisbane:20261021T190000
DTEND;TZID=Australia/Brisbane:20261021T190000
DTSTAMP:20260424T191643
CREATED:20260417T042434Z
LAST-MODIFIED:20260417T042434Z
UID:16807-1792609200-1792609200@ipmsqld.org.au
SUMMARY:IPMS Qld October Meeting (Judging)
DESCRIPTION:Visitors\, friends\, family\, members from other clubs  are all welcome to attend  IPMS Queensland club meetings as  guests.\nAt every second monthly meeting the club runs a competition with formal judging.  This provides an opportunity to have your work critiqued and to receive pointers on how to improve your modelling skills.  The monthly competition results are collated and used to award the Modeller of the Year. \nMembers and guests are encouraged to bring along their completed models or works in progress.
URL:https://ipmsqld.org.au/event/ipms-qld-october-meeting-judging/
LOCATION:Albany Creek State School\, 696 Albany Creek Rd\, Albany Creek\, Queensland\, Australia
CATEGORIES:IPMS Qld club meeting
END:VEVENT
BEGIN:VEVENT
DTSTART;TZID=Australia/Brisbane:20261101T090000
DTEND;TZID=Australia/Brisbane:20261101T090000
DTSTAMP:20260424T191643
CREATED:20260417T042449Z
LAST-MODIFIED:20260417T042449Z
UID:16810-1793523600-1793523600@ipmsqld.org.au
SUMMARY:IPMS Qld November Workshop
DESCRIPTION:The club runs an informal workshop on the first Sunday of each month in the Albany Creek State School Library\, starting at 9:00 am.  Modellers are welcome to bring their latest project and tool kit and spend a few hours in the company of fellow club members building their latest creation.  Demonstration tutorials are frequently run at the workshops\, presenting specific skills and techniques.
URL:https://ipmsqld.org.au/event/ipms-qld-november-workshop/
LOCATION:Albany Creek State School\, 696 Albany Creek Rd\, Albany Creek\, Queensland\, Australia
CATEGORIES:IPMS Qld workshop
END:VEVENT
BEGIN:VEVENT
DTSTART;TZID=Australia/Brisbane:20261118T190000
DTEND;TZID=Australia/Brisbane:20261118T190000
DTSTAMP:20260424T191643
CREATED:20260417T042449Z
LAST-MODIFIED:20260417T042449Z
UID:16809-1795028400-1795028400@ipmsqld.org.au
SUMMARY:IPMS Qld November Meeting
DESCRIPTION:Visitors\, friends\, family\, members from other clubs  are all welcome to attend  IPMS Queensland club meetings as  guests.\nAt every second monthly meeting the club runs a competition with formal judging.  This provides an opportunity to have your work critiqued and to receive pointers on how to improve your modelling skills.  The monthly competition results are collated and used to award the Modeller of the Year. \nMembers and guests are encouraged to bring along their completed models or works in progress.
URL:https://ipmsqld.org.au/event/ipms-qld-november-meeting-2/
LOCATION:Albany Creek State School\, 696 Albany Creek Rd\, Albany Creek\, Queensland\, Australia
CATEGORIES:IPMS Qld club meeting
END:VEVENT
BEGIN:VEVENT
DTSTART;TZID=Australia/Brisbane:20261206T090000
DTEND;TZID=Australia/Brisbane:20261206T090000
DTSTAMP:20260424T191643
CREATED:20260417T042450Z
LAST-MODIFIED:20260417T042450Z
UID:16812-1796547600-1796547600@ipmsqld.org.au
SUMMARY:IPMS Qld December Workshop
DESCRIPTION:The club runs an informal workshop on the first Sunday of each month in the Albany Creek State School Library\, starting at 9:00 am.  Modellers are welcome to bring their latest project and tool kit and spend a few hours in the company of fellow club members building their latest creation.  Demonstration tutorials are frequently run at the workshops\, presenting specific skills and techniques.
URL:https://ipmsqld.org.au/event/ipms-qld-december-workshop/
LOCATION:Albany Creek State School\, 696 Albany Creek Rd\, Albany Creek\, Queensland\, Australia
CATEGORIES:IPMS Qld workshop
END:VEVENT
BEGIN:VEVENT
DTSTART;TZID=Australia/Brisbane:20261216T190000
DTEND;TZID=Australia/Brisbane:20261216T190000
DTSTAMP:20260424T191643
CREATED:20260417T042450Z
LAST-MODIFIED:20260417T042450Z
UID:16811-1797447600-1797447600@ipmsqld.org.au
SUMMARY:IPMS Qld December Meeting (Judging)
DESCRIPTION:Visitors\, friends\, family\, members from other clubs  are all welcome to attend  IPMS Queensland club meetings as  guests.\nAt every second monthly meeting the club runs a competition with formal judging.  This provides an opportunity to have your work critiqued and to receive pointers on how to improve your modelling skills.  The monthly competition results are collated and used to award the Modeller of the Year. \nMembers and guests are encouraged to bring along their completed models or works in progress.
URL:https://ipmsqld.org.au/event/ipms-qld-december-meeting-judging/
LOCATION:Albany Creek State School\, 696 Albany Creek Rd\, Albany Creek\, Queensland\, Australia
CATEGORIES:IPMS Qld club meeting
END:VEVENT
END:VCALENDAR