BEGIN:VCALENDAR
VERSION:2.0
PRODID:-//IPMS Queensland - ECPv6.15.20//NONSGML v1.0//EN
CALSCALE:GREGORIAN
METHOD:PUBLISH
X-WR-CALNAME:IPMS Queensland
X-ORIGINAL-URL:https://ipmsqld.org.au
X-WR-CALDESC:Events for IPMS Queensland
REFRESH-INTERVAL;VALUE=DURATION:PT1H
X-Robots-Tag:noindex
X-PUBLISHED-TTL:PT1H
BEGIN:VTIMEZONE
TZID:Australia/Brisbane
BEGIN:STANDARD
TZOFFSETFROM:+1000
TZOFFSETTO:+1000
TZNAME:AEST
DTSTART:20240101T000000
END:STANDARD
END:VTIMEZONE
BEGIN:VEVENT
DTSTART;VALUE=DATE:20250816
DTEND;VALUE=DATE:20250818
DTSTAMP:20260425T090314
CREATED:20250219T060434Z
LAST-MODIFIED:20250319T093623Z
UID:16653-1755302400-1755475199@ipmsqld.org.au
SUMMARY:QMHE 2025 - Queensland Model Hobbies Expo
DESCRIPTION:
URL:https://ipmsqld.org.au/event/qmhe-2025-queensland-model-hobbies-expo/
LOCATION:Ipswich Events Centre\, 81 Warwick Road\, Ipswich\, Queensland\, 4305\, Australia
CATEGORIES:Exhibition
END:VEVENT
END:VCALENDAR